BEGIN:VCALENDAR
VERSION:2.0
PRODID:-//Italo American Club of Rhode Island - ECPv6.15.20//NONSGML v1.0//EN
CALSCALE:GREGORIAN
METHOD:PUBLISH
X-WR-CALNAME:Italo American Club of Rhode Island
X-ORIGINAL-URL:https://italoamericanclubofri.com
X-WR-CALDESC:Events for Italo American Club of Rhode Island
REFRESH-INTERVAL;VALUE=DURATION:PT1H
X-Robots-Tag:noindex
X-PUBLISHED-TTL:PT1H
BEGIN:VTIMEZONE
TZID:America/New_York
BEGIN:DAYLIGHT
TZOFFSETFROM:-0500
TZOFFSETTO:-0400
TZNAME:EDT
DTSTART:20240310T070000
END:DAYLIGHT
BEGIN:STANDARD
TZOFFSETFROM:-0400
TZOFFSETTO:-0500
TZNAME:EST
DTSTART:20241103T060000
END:STANDARD
BEGIN:DAYLIGHT
TZOFFSETFROM:-0500
TZOFFSETTO:-0400
TZNAME:EDT
DTSTART:20250309T070000
END:DAYLIGHT
BEGIN:STANDARD
TZOFFSETFROM:-0400
TZOFFSETTO:-0500
TZNAME:EST
DTSTART:20251102T060000
END:STANDARD
BEGIN:DAYLIGHT
TZOFFSETFROM:-0500
TZOFFSETTO:-0400
TZNAME:EDT
DTSTART:20260308T070000
END:DAYLIGHT
BEGIN:STANDARD
TZOFFSETFROM:-0400
TZOFFSETTO:-0500
TZNAME:EST
DTSTART:20261101T060000
END:STANDARD
END:VTIMEZONE
BEGIN:VEVENT
DTSTART;TZID=America/New_York:20251118T183000
DTEND;TZID=America/New_York:20251118T203000
DTSTAMP:20260425T092239
CREATED:20251105T042025Z
LAST-MODIFIED:20251105T042919Z
UID:12952-1763490600-1763497800@italoamericanclubofri.com
SUMMARY:Turkey Trot Dinner
DESCRIPTION:Turkey Trot Dinner at the Italo American Club of Rhode Island\nJoin your friends and fellow members for a festive evening at the Turkey Trot Dinner\, hosted by Maria’s Cucina at the Italo American Club of Rhode Island on Tuesday\, November 18\, 2025\, at 6:30 PM. Enjoy a classic holiday meal featuring roast turkey with all the traditional fixings — stuffing\, whipped potatoes\, sautéed string beans\, sweet potato wedges\, gravy\, cranberry sauce\, and apple pie with vanilla gelato\, coffee\, or tea. \nGuests will also have the chance to win one of two Italian-themed Turkey Raffle Baskets during the night! Seating is limited\, so reserve early and plan to purchase your tickets at the door. The cost is $55 per person\, including tax and tip. \nRSVP by Noon on November 14\, 2025 to the club at (401) 621-5600\, by email at italoclubri@gmail.com\, or contact Gene Waldeck at (401) 286-5959. Don’t miss this annual tradition of great food\, laughter\, and Italian hospitality!
URL:https://italoamericanclubofri.com/event/turkey-trot-dinner/
LOCATION:Italo American Club of RI\, 477 Broadway\, Providence\, RI\, 02909\, United States
CATEGORIES:Monthly Dinners
ATTACH;FMTTYPE=image/jpeg:https://italoamericanclubofri.com/wp-content/uploads/2025/11/turkey-trot-dinner-2025.jpg
ORGANIZER;CN="Gene Waldeck":MAILTO:italoclubri@gmail.com
END:VEVENT
BEGIN:VEVENT
DTSTART;TZID=America/New_York:20250617T183000
DTEND;TZID=America/New_York:20250617T203000
DTSTAMP:20260425T092239
CREATED:20250609T213413Z
LAST-MODIFIED:20250609T214258Z
UID:12912-1750185000-1750192200@italoamericanclubofri.com
SUMMARY:Ravioli Dinner
DESCRIPTION:Maria Cucina’s @ The ltalo American Club\nTuesday June 17\, 2025@ 6:30 pm\n$46/per person Tax/Tip included – pay upon arrival \nBuffet Dinner to Include:\nBread & Butter\nCheese Ravioli w/Pink Vodka Sauce\nRigatoni w/Bolognese Sauce\nMeatballs\nSausage & Peppers w/Marinara\nCheese Cake & Coffee \nItalian Raffle Baskets – Tickets sold at the door\nLIMITED SEATING RESERVE YOURS TODAY! \nMust RSVP by Friday June 13\, 2025 to the Club # 401-621-5600\, by email italoclubri@gmail.com or contact Gene Waldeck # 401-286-5959 to attend.
URL:https://italoamericanclubofri.com/event/ravioli-dinner/
LOCATION:Italo American Club of RI\, 477 Broadway\, Providence\, RI\, 02909\, United States
CATEGORIES:Monthly Dinners
ATTACH;FMTTYPE=image/jpeg:https://italoamericanclubofri.com/wp-content/uploads/2025/06/raviolo-dinner-june-17-25.jpg
END:VEVENT
BEGIN:VEVENT
DTSTART;TZID=America/New_York:20250415T183000
DTEND;TZID=America/New_York:20250415T203000
DTSTAMP:20260425T092239
CREATED:20250412T204851Z
LAST-MODIFIED:20250412T204851Z
UID:12840-1744741800-1744749000@italoamericanclubofri.com
SUMMARY:La Famigilia Italian Dinner
DESCRIPTION:Maria Cucina’s @ The ltalo American Club\nTuesday April 15\, 2025@ 6:30 pm\n$45.00/per person Tax/Tip included – pay upon arrival \nFamily Style Dinner to Include:\nHouse Salad\nOrrecheti Pasta w/Rabi\nSausage & Peppers\nChicken Marsala\nDessert – Coffee or Tea
URL:https://italoamericanclubofri.com/event/la-famigilia-italian-dinner/
LOCATION:Italo American Club of RI\, 477 Broadway\, Providence\, RI\, 02909\, United States
CATEGORIES:Monthly Dinners
ATTACH;FMTTYPE=image/jpeg:https://italoamericanclubofri.com/wp-content/uploads/2025/04/lafamiglia-italian-dinner-apr-15-2025-featrued.jpg
END:VEVENT
BEGIN:VEVENT
DTSTART;TZID=America/New_York:20250327T190000
DTEND;TZID=America/New_York:20250327T210000
DTSTAMP:20260425T092239
CREATED:20250303T205318Z
LAST-MODIFIED:20250303T205424Z
UID:12799-1743102000-1743109200@italoamericanclubofri.com
SUMMARY:Two Can Play - Ed Kane and Archie Calise
DESCRIPTION:Upstairs in The Federal Hill Room\nIACRI Music Series presents:\nTwo Can Play\nFor 40 years Ed Kane and Archie Calise – Two Can Play- have been playing to audiences throughout Rhode Island. They’ll bring their popular ’60s show to the IAC on March 27. \n* For more information\, or to purchase tickets over the phone\, call Frank Prosnitz at 401-935-9890 and leave a message and we’ll get back to you. Tickets also available at the door. \n*Pre fixed dinner available at Maria’s Cucina restaurant before the performance\, $42. Call the restaurant for reservations\, 401-528-1111. Cocktails and dessert available for purchase during the performance. \nFollow Two Can Play on Facebook\nDownload Flyer
URL:https://italoamericanclubofri.com/event/two-can-play-ed-kane-and-archie-calise/
LOCATION:Italo American Club of RI\, 477 Broadway\, Providence\, RI\, 02909\, United States
CATEGORIES:Music Series
ATTACH;FMTTYPE=image/jpeg:https://italoamericanclubofri.com/wp-content/uploads/2025/03/two-can-play-feat.jpg
END:VEVENT
BEGIN:VEVENT
DTSTART;TZID=America/New_York:20250318T183000
DTEND;TZID=America/New_York:20250318T203000
DTSTAMP:20260425T092239
CREATED:20250303T012553Z
LAST-MODIFIED:20250303T203436Z
UID:12793-1742322600-1742329800@italoamericanclubofri.com
SUMMARY:St. Joseph's Day & St. Patrick's Day Dinner
DESCRIPTION:Italo American Club of Rhode Island Cordially invites you to a Italian/Irish DInner celebrating St. Joseph’s Day & St. Patrick’s Day at Maria’s Cucina Tuesday March 18\, 2025 at 6:30PM. \nMenu Choice \nCorned Beef & Cabage with Carrots & Potatoes Or Full order Chicken Parmesan with Pasta \nCoffee or Tea and a Zeppole \n$45 per person Tax and Gratuity included to be paid at dinner. Limited seating! Must RSVP and give meal choice by 3/14/25 call club at 401-621-5600\, by email italoclubri@gmail.com or contact Gene Waldeck at 401-286-5959 \nDownload Flyer
URL:https://italoamericanclubofri.com/event/st-josephs-day-st-patricks-day-dinner/
LOCATION:Italo American Club of RI\, 477 Broadway\, Providence\, RI\, 02909\, United States
CATEGORIES:Monthly Dinners
ATTACH;FMTTYPE=image/jpeg:https://italoamericanclubofri.com/wp-content/uploads/2025/03/st-patricks-day-2025.jpg
ORGANIZER;CN="Gene Waldeck":MAILTO:italoclubri@gmail.com
END:VEVENT
BEGIN:VEVENT
DTSTART;TZID=America/New_York:20250225T183000
DTEND;TZID=America/New_York:20250225T203000
DTSTAMP:20260425T092239
CREATED:20250201T223243Z
LAST-MODIFIED:20250201T223819Z
UID:12750-1740508200-1740515400@italoamericanclubofri.com
SUMMARY:Polenta Dinner
DESCRIPTION:Join us at the Italo American Club of Rhode Island for a delicious Polenta Dinner! Enjoy a hearty meal featuring polenta with sausage and meatballs\, pasta with pink vodka sauce\, fresh salad\, rolls & butter\, and spumoni for dessert\, served with coffee or tea. Don’t miss this evening of great food and camaraderie—reserve your spot today! 🍷🍽️ \n$45.00/per Person – Pay at the door – Raffle Baskets \nYou Must RSVP to attend by email or call by Friday\, February 21\, 2025 to italoclubri@gmail.com\, call Club# 401-621-5600 or Gene Waldeck# 401-286-5959 to attend.
URL:https://italoamericanclubofri.com/event/polenta-dinner-2-25-25/
LOCATION:Italo American Club of RI\, 477 Broadway\, Providence\, RI\, 02909\, United States
CATEGORIES:Monthly Dinners
ATTACH;FMTTYPE=image/webp:https://italoamericanclubofri.com/wp-content/uploads/2025/02/polenta-dinner.webp
ORGANIZER;CN="Gene Waldeck":MAILTO:italoclubri@gmail.com
END:VEVENT
BEGIN:VEVENT
DTSTART;TZID=America/New_York:20250220T190000
DTEND;TZID=America/New_York:20250220T210000
DTSTAMP:20260425T092239
CREATED:20250104T020930Z
LAST-MODIFIED:20250113T221405Z
UID:12555-1740078000-1740085200@italoamericanclubofri.com
SUMMARY:Vocalist Kelly Lennon
DESCRIPTION:Her rich voice\, engaging personality and simple warmth delight audiences of all ages. A uniquely versatile performer\, her repertoire ranges from Broadway to jazz. First place winner\, Ed McMahon’s NextBigStar;  contestant CBS’ Star Search; featured artist NY International Music Festival; jazz act of the year\, Motif Magazine. \nKelly Lennon Ticket Form
URL:https://italoamericanclubofri.com/event/vocalist-kelly-lennon-2-20-25/
LOCATION:Italo American Club of RI\, 477 Broadway\, Providence\, RI\, 02909\, United States
CATEGORIES:Music Series
END:VEVENT
BEGIN:VEVENT
DTSTART;TZID=America/New_York:20250128T183000
DTEND;TZID=America/New_York:20250128T210000
DTSTAMP:20260425T092239
CREATED:20250113T220107Z
LAST-MODIFIED:20250114T004546Z
UID:12605-1738089000-1738098000@italoamericanclubofri.com
SUMMARY:Pasta Extravaganza
DESCRIPTION:Maria Cucina’s @ The Italo American Club \n$ 40.00/per person Tax/Tip included  – pay upon arrival (cash\, credit card\, check made payable to: Italo american Club) \nDinner served:  Family Style  \nHouse Salad\nPenne Pink Vodka Sauce\nCheese Tortellini Alla Panna\nRigatoni Marinara\nBread & Butter\nMini Cannoli & Coffee \nItalian Raffle Baskets –  Tickets sold at the Door \nLIMITED SEATING RESERVE YOURS TODAY \nMUST RSVP by Friday January 24\, 2025 to the Club# 401-621-5600\, by email italoclubri@gmail.com or contact Gene Waldeck # 401-286-5959 to attend.
URL:https://italoamericanclubofri.com/event/pasta-extravaganza/
LOCATION:Italo American Club of RI\, 477 Broadway\, Providence\, RI\, 02909\, United States
CATEGORIES:Monthly Dinners
ATTACH;FMTTYPE=image/jpeg:https://italoamericanclubofri.com/wp-content/uploads/2025/01/pasta-dinner.jpg
ORGANIZER;CN="Gene Waldeck":MAILTO:italoclubri@gmail.com
END:VEVENT
BEGIN:VEVENT
DTSTART;TZID=America/New_York:20250123T190000
DTEND;TZID=America/New_York:20250123T210000
DTSTAMP:20260425T092239
CREATED:20250104T013322Z
LAST-MODIFIED:20250113T221232Z
UID:12522-1737658800-1737666000@italoamericanclubofri.com
SUMMARY:Vocalist Ron Giorgio
DESCRIPTION:Vocalist Ron Giorgio\, known for his “powerhouse” voice\, a true showman who sings the classics from the Sinatra era. He’s among Southern New England’s premier “crooners. All proceeds benefit the Italo American Club of Rhode Island’s Charitable Trust. \nRon Giorgio Ticket Form\n 
URL:https://italoamericanclubofri.com/event/vocalist-ron-giorgio/
LOCATION:Italo American Club of RI\, 477 Broadway\, Providence\, RI\, 02909\, United States
CATEGORIES:Music Series
END:VEVENT
END:VCALENDAR