BEGIN:VCALENDAR
VERSION:2.0
PRODID:-//Italo American Club of Rhode Island - ECPv6.15.20//NONSGML v1.0//EN
CALSCALE:GREGORIAN
METHOD:PUBLISH
X-WR-CALNAME:Italo American Club of Rhode Island
X-ORIGINAL-URL:https://italoamericanclubofri.com
X-WR-CALDESC:Events for Italo American Club of Rhode Island
REFRESH-INTERVAL;VALUE=DURATION:PT1H
X-Robots-Tag:noindex
X-PUBLISHED-TTL:PT1H
BEGIN:VTIMEZONE
TZID:America/New_York
BEGIN:DAYLIGHT
TZOFFSETFROM:-0500
TZOFFSETTO:-0400
TZNAME:EDT
DTSTART:20240310T070000
END:DAYLIGHT
BEGIN:STANDARD
TZOFFSETFROM:-0400
TZOFFSETTO:-0500
TZNAME:EST
DTSTART:20241103T060000
END:STANDARD
BEGIN:DAYLIGHT
TZOFFSETFROM:-0500
TZOFFSETTO:-0400
TZNAME:EDT
DTSTART:20250309T070000
END:DAYLIGHT
BEGIN:STANDARD
TZOFFSETFROM:-0400
TZOFFSETTO:-0500
TZNAME:EST
DTSTART:20251102T060000
END:STANDARD
BEGIN:DAYLIGHT
TZOFFSETFROM:-0500
TZOFFSETTO:-0400
TZNAME:EDT
DTSTART:20260308T070000
END:DAYLIGHT
BEGIN:STANDARD
TZOFFSETFROM:-0400
TZOFFSETTO:-0500
TZNAME:EST
DTSTART:20261101T060000
END:STANDARD
END:VTIMEZONE
BEGIN:VEVENT
DTSTART;TZID=America/New_York:20250415T183000
DTEND;TZID=America/New_York:20250415T203000
DTSTAMP:20260425T232855
CREATED:20250412T204851Z
LAST-MODIFIED:20250412T204851Z
UID:12840-1744741800-1744749000@italoamericanclubofri.com
SUMMARY:La Famigilia Italian Dinner
DESCRIPTION:Maria Cucina’s @ The ltalo American Club\nTuesday April 15\, 2025@ 6:30 pm\n$45.00/per person Tax/Tip included – pay upon arrival \nFamily Style Dinner to Include:\nHouse Salad\nOrrecheti Pasta w/Rabi\nSausage & Peppers\nChicken Marsala\nDessert – Coffee or Tea
URL:https://italoamericanclubofri.com/event/la-famigilia-italian-dinner/
LOCATION:Italo American Club of RI\, 477 Broadway\, Providence\, RI\, 02909\, United States
CATEGORIES:Monthly Dinners
ATTACH;FMTTYPE=image/jpeg:https://italoamericanclubofri.com/wp-content/uploads/2025/04/lafamiglia-italian-dinner-apr-15-2025-featrued.jpg
END:VEVENT
END:VCALENDAR