BEGIN:VCALENDAR
VERSION:2.0
PRODID:-//Italo American Club of Rhode Island - ECPv6.15.20//NONSGML v1.0//EN
CALSCALE:GREGORIAN
METHOD:PUBLISH
X-WR-CALNAME:Italo American Club of Rhode Island
X-ORIGINAL-URL:https://italoamericanclubofri.com
X-WR-CALDESC:Events for Italo American Club of Rhode Island
REFRESH-INTERVAL;VALUE=DURATION:PT1H
X-Robots-Tag:noindex
X-PUBLISHED-TTL:PT1H
BEGIN:VTIMEZONE
TZID:America/New_York
BEGIN:DAYLIGHT
TZOFFSETFROM:-0500
TZOFFSETTO:-0400
TZNAME:EDT
DTSTART:20240310T070000
END:DAYLIGHT
BEGIN:STANDARD
TZOFFSETFROM:-0400
TZOFFSETTO:-0500
TZNAME:EST
DTSTART:20241103T060000
END:STANDARD
BEGIN:DAYLIGHT
TZOFFSETFROM:-0500
TZOFFSETTO:-0400
TZNAME:EDT
DTSTART:20250309T070000
END:DAYLIGHT
BEGIN:STANDARD
TZOFFSETFROM:-0400
TZOFFSETTO:-0500
TZNAME:EST
DTSTART:20251102T060000
END:STANDARD
BEGIN:DAYLIGHT
TZOFFSETFROM:-0500
TZOFFSETTO:-0400
TZNAME:EDT
DTSTART:20260308T070000
END:DAYLIGHT
BEGIN:STANDARD
TZOFFSETFROM:-0400
TZOFFSETTO:-0500
TZNAME:EST
DTSTART:20261101T060000
END:STANDARD
END:VTIMEZONE
BEGIN:VEVENT
DTSTART;TZID=America/New_York:20251118T183000
DTEND;TZID=America/New_York:20251118T203000
DTSTAMP:20260425T121501
CREATED:20251105T042025Z
LAST-MODIFIED:20251105T042919Z
UID:12952-1763490600-1763497800@italoamericanclubofri.com
SUMMARY:Turkey Trot Dinner
DESCRIPTION:Turkey Trot Dinner at the Italo American Club of Rhode Island\nJoin your friends and fellow members for a festive evening at the Turkey Trot Dinner\, hosted by Maria’s Cucina at the Italo American Club of Rhode Island on Tuesday\, November 18\, 2025\, at 6:30 PM. Enjoy a classic holiday meal featuring roast turkey with all the traditional fixings — stuffing\, whipped potatoes\, sautéed string beans\, sweet potato wedges\, gravy\, cranberry sauce\, and apple pie with vanilla gelato\, coffee\, or tea. \nGuests will also have the chance to win one of two Italian-themed Turkey Raffle Baskets during the night! Seating is limited\, so reserve early and plan to purchase your tickets at the door. The cost is $55 per person\, including tax and tip. \nRSVP by Noon on November 14\, 2025 to the club at (401) 621-5600\, by email at italoclubri@gmail.com\, or contact Gene Waldeck at (401) 286-5959. Don’t miss this annual tradition of great food\, laughter\, and Italian hospitality!
URL:https://italoamericanclubofri.com/event/turkey-trot-dinner/
LOCATION:Italo American Club of RI\, 477 Broadway\, Providence\, RI\, 02909\, United States
CATEGORIES:Monthly Dinners
ATTACH;FMTTYPE=image/jpeg:https://italoamericanclubofri.com/wp-content/uploads/2025/11/turkey-trot-dinner-2025.jpg
ORGANIZER;CN="Gene Waldeck":MAILTO:italoclubri@gmail.com
END:VEVENT
END:VCALENDAR