BEGIN:VCALENDAR
VERSION:2.0
PRODID:-//Italo American Club of Rhode Island - ECPv6.15.20//NONSGML v1.0//EN
CALSCALE:GREGORIAN
METHOD:PUBLISH
X-WR-CALNAME:Italo American Club of Rhode Island
X-ORIGINAL-URL:https://italoamericanclubofri.com
X-WR-CALDESC:Events for Italo American Club of Rhode Island
REFRESH-INTERVAL;VALUE=DURATION:PT1H
X-Robots-Tag:noindex
X-PUBLISHED-TTL:PT1H
BEGIN:VTIMEZONE
TZID:America/New_York
BEGIN:DAYLIGHT
TZOFFSETFROM:-0500
TZOFFSETTO:-0400
TZNAME:EDT
DTSTART:20240310T070000
END:DAYLIGHT
BEGIN:STANDARD
TZOFFSETFROM:-0400
TZOFFSETTO:-0500
TZNAME:EST
DTSTART:20241103T060000
END:STANDARD
BEGIN:DAYLIGHT
TZOFFSETFROM:-0500
TZOFFSETTO:-0400
TZNAME:EDT
DTSTART:20250309T070000
END:DAYLIGHT
BEGIN:STANDARD
TZOFFSETFROM:-0400
TZOFFSETTO:-0500
TZNAME:EST
DTSTART:20251102T060000
END:STANDARD
BEGIN:DAYLIGHT
TZOFFSETFROM:-0500
TZOFFSETTO:-0400
TZNAME:EDT
DTSTART:20260308T070000
END:DAYLIGHT
BEGIN:STANDARD
TZOFFSETFROM:-0400
TZOFFSETTO:-0500
TZNAME:EST
DTSTART:20261101T060000
END:STANDARD
END:VTIMEZONE
BEGIN:VEVENT
DTSTART;TZID=America/New_York:20250318T183000
DTEND;TZID=America/New_York:20250318T203000
DTSTAMP:20260425T232633
CREATED:20250303T012553Z
LAST-MODIFIED:20250303T203436Z
UID:12793-1742322600-1742329800@italoamericanclubofri.com
SUMMARY:St. Joseph's Day & St. Patrick's Day Dinner
DESCRIPTION:Italo American Club of Rhode Island Cordially invites you to a Italian/Irish DInner celebrating St. Joseph’s Day & St. Patrick’s Day at Maria’s Cucina Tuesday March 18\, 2025 at 6:30PM. \nMenu Choice \nCorned Beef & Cabage with Carrots & Potatoes Or Full order Chicken Parmesan with Pasta \nCoffee or Tea and a Zeppole \n$45 per person Tax and Gratuity included to be paid at dinner. Limited seating! Must RSVP and give meal choice by 3/14/25 call club at 401-621-5600\, by email italoclubri@gmail.com or contact Gene Waldeck at 401-286-5959 \nDownload Flyer
URL:https://italoamericanclubofri.com/event/st-josephs-day-st-patricks-day-dinner/
LOCATION:Italo American Club of RI\, 477 Broadway\, Providence\, RI\, 02909\, United States
CATEGORIES:Monthly Dinners
ATTACH;FMTTYPE=image/jpeg:https://italoamericanclubofri.com/wp-content/uploads/2025/03/st-patricks-day-2025.jpg
ORGANIZER;CN="Gene Waldeck":MAILTO:italoclubri@gmail.com
END:VEVENT
END:VCALENDAR